BEGIN:VCALENDAR
VERSION:2.0
PRODID:-//alma mundi AKADEMIE - ECPv6.15.17.1//NONSGML v1.0//EN
CALSCALE:GREGORIAN
METHOD:PUBLISH
X-ORIGINAL-URL:https://www.almamundi.de
X-WR-CALDESC:Veranstaltungen für alma mundi AKADEMIE
REFRESH-INTERVAL;VALUE=DURATION:PT1H
X-Robots-Tag:noindex
X-PUBLISHED-TTL:PT1H
BEGIN:VTIMEZONE
TZID:Europe/Berlin
BEGIN:DAYLIGHT
TZOFFSETFROM:+0100
TZOFFSETTO:+0200
TZNAME:CEST
DTSTART:20230326T010000
END:DAYLIGHT
BEGIN:STANDARD
TZOFFSETFROM:+0200
TZOFFSETTO:+0100
TZNAME:CET
DTSTART:20231029T010000
END:STANDARD
BEGIN:DAYLIGHT
TZOFFSETFROM:+0100
TZOFFSETTO:+0200
TZNAME:CEST
DTSTART:20240331T010000
END:DAYLIGHT
BEGIN:STANDARD
TZOFFSETFROM:+0200
TZOFFSETTO:+0100
TZNAME:CET
DTSTART:20241027T010000
END:STANDARD
BEGIN:DAYLIGHT
TZOFFSETFROM:+0100
TZOFFSETTO:+0200
TZNAME:CEST
DTSTART:20250330T010000
END:DAYLIGHT
BEGIN:STANDARD
TZOFFSETFROM:+0200
TZOFFSETTO:+0100
TZNAME:CET
DTSTART:20251026T010000
END:STANDARD
END:VTIMEZONE
BEGIN:VEVENT
DTSTART;TZID=Europe/Berlin:20240205T193000
DTEND;TZID=Europe/Berlin:20240205T210000
DTSTAMP:20260419T212637
CREATED:20240122T004638Z
LAST-MODIFIED:20240122T004638Z
UID:10000038-1707161400-1707166800@www.almamundi.de
SUMMARY:Geokulturelles Philosophieren - „Natur-Mensch-Technik“ – Technik als Frucht der Erkenntnis an der Schwelle zur integralen Bewußtseinsphase
DESCRIPTION:  \nTermine: 05. Februar\, 12. Februar\, 19. Februar 2024\,  19.30 Uhr \nIn dieser kreativen\, lebendigen und interaktiven Online – Schulung in drei Teilen\, bewegen wir das Thema „Natur-Mensch-Technik“ – Technik als Frucht der Erkenntnis an der Schwelle zur integralen Bewusstseinsphase \nPrometheus findet den Menschen nach der Gabenverteilung durch seinen Bruder Epimetheus nackt\, unbeschuht\, unbedeckt und unbewaffnet vor. Als Freund der Menschen will Prometheus diese Ungerechtigkeit seines Bruders nicht akzeptieren und raubt die kunstreiche Weisheit des Hephaistos und der Athene nebst dem Feuer\, zur Rettung der Menschheit. Auf diese Weise erhält der Mensch die zum Überleben erforderliche technische Intelligenz (εντεχνος σοφια\, entechnos sophia)\, mit der die Menschen dann unabhängig von den Göttern erfinderisch tätig werden können. Sie rüsten sich mit Wohnungen\, Kleidern und Schuhen zum Schutz aus und erfinden Nahrungsmittel. Die technischen Artefakte sind eine Existenzbedingung zur Sicherung des schieren Überlebens im Kampf ums Dasein. \nHeute zeichnet sich ein ganz anderes Bild. Technik und Digitalisierung sind ein Teil der Früchte unserer mentalen Bewusstseinsentwicklung. Als ein Geschenk der Götter (technische Intelligenz) und Mutter Erde (Rohstoffe) haben diese Früchte nicht nur das Potenzial weiterhin unsere Existenz zu sichern\, uns körperlich\, seelisch und geistig zu nähren\, uns ein Paradies auf Erden zu bescheren\, uns in unserem Mensch-sein zu transzendieren\, sondern auch uns selbst existenziell infrage zu stellen. \nDer Mensch\, der sich selbst zunehmend der Natur gegenübergestellt hat\, sich selbst als der Natur nicht zugehörige betrachtet\, gelangt nun zwischen zwei Fronten. Er befindet sich in einem Spannungsverhältnis zwischen Natur\, Mensch und Technik. Zweifel entstehen\, zu welchem Pol der Mensch denn gehöre. Ist er mehr ein natürliches Wesen und der Natur verbunden oder ist er mittlerweile mehr ein technisches Wesen\, das sich auf den Weg der Emanzipation von Mutter Natur begeben hat? \nDreiteilige Reihe: \nTeil 1 \nGrundlagen Natur-Mensch-Technik \nDas Thema wird mit der Vorstellung bereits vorherrschender Überlegungen zum Verhältnis Natur-Mensch-Technik eröffnet. So bekommen wir erste Ideen und Anregungen\, wie dieses Verhältnis aus verschiedenen Perspektiven betrachtet werden kann und zu welchen Konsequenzen es führt. \nTeil 2 \nGeokulturelles Philosophieren \nIn Anlehnung an das antike Philosophieren werden die im Teil 1 vorgestellten Überlegungen im philosophischen Diskurs bewegt. Wir hinterfragen gemeinsam diese Ansätze\, schauen\, wie stimmig sie innerhalb eines geokulturellen Weltbildes sind. Wir verknüpfen die Ansätze mit eigenen Überlegungen und schauen erneut\, wie sich dadurch das Feld verändert. \nTeil 3 \nIntegration \nIm dritten Teil geht es um die Integration der gewonnenen Erkenntnisse aus dem philosophischen Diskurs. Was hat noch nachgewirkt? Sind weitere Aspekte aufgetaucht? Wie können wir diese Erkenntnisse in unsern Alltag integrieren? \nDozentin: Theres Bock \nKosten: 60 € \nBitte kontaktieren Sie uns bei weiteren Fragen oder\nInteresse über lange@almamundi.de
URL:https://www.almamundi.de/event/geokulturelles-philosophieren-natur-mensch-technik-technik-als-frucht-der-erkenntnis-an-der-schwelle-zur-integralen-bewusstseinsphase-2/
LOCATION:Online-Event Dreiteilige Reihe
CATEGORIES:Seminare,Vorträge
ATTACH;FMTTYPE=image/jpeg:https://www.almamundi.de/wp-content/uploads/2023/12/7DF13D41-FADE-41D2-AA0C-F8F2F1E8B331-scaled.jpeg
END:VEVENT
END:VCALENDAR