BEGIN:VCALENDAR
VERSION:2.0
PRODID:-//alma mundi AKADEMIE - ECPv6.15.17.1//NONSGML v1.0//EN
CALSCALE:GREGORIAN
METHOD:PUBLISH
X-WR-CALNAME:alma mundi AKADEMIE
X-ORIGINAL-URL:https://www.almamundi.de
X-WR-CALDESC:Veranstaltungen für alma mundi AKADEMIE
REFRESH-INTERVAL;VALUE=DURATION:PT1H
X-Robots-Tag:noindex
X-PUBLISHED-TTL:PT1H
BEGIN:VTIMEZONE
TZID:Europe/Berlin
BEGIN:DAYLIGHT
TZOFFSETFROM:+0100
TZOFFSETTO:+0200
TZNAME:CEST
DTSTART:20230326T010000
END:DAYLIGHT
BEGIN:STANDARD
TZOFFSETFROM:+0200
TZOFFSETTO:+0100
TZNAME:CET
DTSTART:20231029T010000
END:STANDARD
BEGIN:DAYLIGHT
TZOFFSETFROM:+0100
TZOFFSETTO:+0200
TZNAME:CEST
DTSTART:20240331T010000
END:DAYLIGHT
BEGIN:STANDARD
TZOFFSETFROM:+0200
TZOFFSETTO:+0100
TZNAME:CET
DTSTART:20241027T010000
END:STANDARD
BEGIN:DAYLIGHT
TZOFFSETFROM:+0100
TZOFFSETTO:+0200
TZNAME:CEST
DTSTART:20250330T010000
END:DAYLIGHT
BEGIN:STANDARD
TZOFFSETFROM:+0200
TZOFFSETTO:+0100
TZNAME:CET
DTSTART:20251026T010000
END:STANDARD
END:VTIMEZONE
BEGIN:VEVENT
DTSTART;VALUE=DATE:20240426
DTEND;VALUE=DATE:20240429
DTSTAMP:20260419T165144
CREATED:20240122T004739Z
LAST-MODIFIED:20240318T111729Z
UID:10000039-1714089600-1714348799@www.almamundi.de
SUMMARY:Orte der Kraft – berührt Sein vom Geist des Ortes
DESCRIPTION:„Kraftorte“ sind aus heutiger Sicht beeindruckende Naturphänomene\, wundersame Sakralbauten oder symbolisch aufgeladene Plätze. Ursprünglich aber sind sie Tore zum geistigen Raum\, Träger von Mythos und sakraler Atmosphäre\, identitätsstiftende Mitte oder Teil eines einst lebendig empfundenen Erdorganismus. In jedem Landschaftsraum finden wir Orte\, deren innewohnende Kräfte uns noch heute ansprechen und inspirieren. Dieses Seminar vermittelt die Wirkungsweise\, das Auffinden und den Umgang mit diesen Orten lebendiger Kraft. \nThemenfelder und Lerninhalte \nKultplätze und Kraftorte: Mythische\, energetische und sakrale Ebenen von Orten der Kraft * Die Drei-Welten-Lehre * Zugänge zur Anderswelt * Geomantische Strukturen an Orten der Kraft \nGeomantische Ortsrecherche: Abenteuer Kraftplatzforschung – Die lebendige Landschaft erkennen * Leylines – Wege der Kraft\, Wege des Geistes * Die Wahrnehmung der Ortskräfte * Kraftorte öffnen lernen \nEinführung in die Geokultur: Partnerschaft mit Erdenraum und Weltenseele * Bewusstes Leben mit dem Ursprung * Entwicklungsprozesse für ein gereiftes Menschsein \nLeitung: Christin Lange & Jochen Topp \nOrt: Seminarraum im Grün\, Sternwaldstr. 6A\, Freiburg \nKosten: 340€ \nZeiten: Freitag 10 – 19 Uhr\, Samstag 10 – 19 Uhr\, Sonntag 10 – 14 Uhr \nBitte kontaktieren Sie uns bei weiteren Fragen oder\nInteresse über lange@almamundi.de
URL:https://www.almamundi.de/event/orte-der-kraft-beruehrt-sein-vom-geist-des-ortes/
LOCATION:Freiburg im Breisgau\, Kunst und Raum\, Sternwaldstr. 6\, Freiburg\, Wiehre\, 79100\, Deutschland
CATEGORIES:Seminare
ATTACH;FMTTYPE=image/jpeg:https://www.almamundi.de/wp-content/uploads/2023/11/tom-geerts-uYDNbz84MBs-unsplash-scaled.jpg
END:VEVENT
END:VCALENDAR