BEGIN:VCALENDAR
VERSION:2.0
PRODID:-//alma mundi AKADEMIE - ECPv6.15.17.1//NONSGML v1.0//EN
CALSCALE:GREGORIAN
METHOD:PUBLISH
X-ORIGINAL-URL:https://www.almamundi.de
X-WR-CALDESC:Veranstaltungen für alma mundi AKADEMIE
REFRESH-INTERVAL;VALUE=DURATION:PT1H
X-Robots-Tag:noindex
X-PUBLISHED-TTL:PT1H
BEGIN:VTIMEZONE
TZID:Europe/Berlin
BEGIN:DAYLIGHT
TZOFFSETFROM:+0100
TZOFFSETTO:+0200
TZNAME:CEST
DTSTART:20230326T010000
END:DAYLIGHT
BEGIN:STANDARD
TZOFFSETFROM:+0200
TZOFFSETTO:+0100
TZNAME:CET
DTSTART:20231029T010000
END:STANDARD
BEGIN:DAYLIGHT
TZOFFSETFROM:+0100
TZOFFSETTO:+0200
TZNAME:CEST
DTSTART:20240331T010000
END:DAYLIGHT
BEGIN:STANDARD
TZOFFSETFROM:+0200
TZOFFSETTO:+0100
TZNAME:CET
DTSTART:20241027T010000
END:STANDARD
BEGIN:DAYLIGHT
TZOFFSETFROM:+0100
TZOFFSETTO:+0200
TZNAME:CEST
DTSTART:20250330T010000
END:DAYLIGHT
BEGIN:STANDARD
TZOFFSETFROM:+0200
TZOFFSETTO:+0100
TZNAME:CET
DTSTART:20251026T010000
END:STANDARD
END:VTIMEZONE
BEGIN:VEVENT
DTSTART;TZID=Europe/Berlin:20240116T193000
DTEND;TZID=Europe/Berlin:20240116T220000
DTSTAMP:20260419T225537
CREATED:20231215T163505Z
LAST-MODIFIED:20231215T164711Z
UID:10000023-1705433400-1705442400@www.almamundi.de
SUMMARY:Geokultur – Wenn Mensch und Erde sich gemeinsam entwickeln / Vortrag
DESCRIPTION:Der Vortrag am 16.01.2024 hat das Thema:“Vom Turmbau zu Babel und dem Verlust Gottes – Von der neolithischen Revolution zum erlebten Innenraum“. \nVorträge von Markus Hoenninger: \nEin Weg durch die Kunstgeschichte von den Anfängen bis in die Gegenwart. Im Mittelpunkt stehen das Verhältnis von Mensch und Natur so wie die damit einhergehenden Entwicklungsschritte des menschlichen Bewusstseins. \nZur Anmeldung schreiben Sie bitte eine E-Mail an lange@almamundi.de \nWeitere Termin in 2024 finden Sie hier. \nOrt: Kunst und Räume\, Sternwaldstr. 6A\, 79102 Freiburg\nZeit: 19:30 bis 21 Uhr\nKosten: 15.-€ / erm. 10.-€ \nDozent: Markus Hoenninger
URL:https://www.almamundi.de/event/geokultur-wenn-mensch-und-erde-sich-gemeinsam-entwickeln-vortrag/
LOCATION:Kunst und Räume\, Sternwaldstr. 6A\, Freiburg\, 79102\, Deutschland
CATEGORIES:Vorträge
ATTACH;FMTTYPE=image/jpeg:https://www.almamundi.de/wp-content/uploads/2023/12/B50D3E1A-DEAE-4E9F-B0DC-FF20C5149285_1_201_a-1-scaled.jpeg
END:VEVENT
BEGIN:VEVENT
DTSTART;TZID=Europe/Berlin:20240123T193000
DTEND;TZID=Europe/Berlin:20240123T210000
DTSTAMP:20260419T225537
CREATED:20240122T005542Z
LAST-MODIFIED:20240123T073431Z
UID:10000043-1706038200-1706043600@www.almamundi.de
SUMMARY:Die Anima Loci - das seelische Bewusstsein eines Ortes
DESCRIPTION:Die Anima Loci ist die Seele eines Ortes oder eines Landschaftsorganismus. In alten Hausbautraditionen wird ihr z.B. mit der Grundsteinlegung die Möglichkeit gegeben\, als Seelenkraft mitzuwirken und das Haus mit der Landschaft zu verbinden. Dieses wertvolle Bauwissen ist uns heute meist nicht mehr zugänglich. Oft bleibt ein schönes neues Haus seelenlos. In alten Häusern haben wir oft die Erfahrung von etwas Seelenvollem und das wird dann zum Ausdruck gebracht: Das Haus hat eine Seele! \nIn früheren Zeiten war dies ein wesentlicher Bestandteil des Hausbaus. Die Menschen konnten darin kraftvoll\, verbunden und eingebettet leben. \nIn diesem Online-Vortrag geht es darum\, dieses Wissen in die geokulturelle Arbeit zu integrieren\, um auch in modernen Bauten die anima loci mit einzubeziehen. Wie immer ist ein Austausch mit Fragen und Diskussion vorgesehen. \nDozentin: Christin Lange \nKosten: 25€ \nBitte kontaktieren Sie uns bei weiteren Fragen oder\nInteresse über lange@almamundi.de
URL:https://www.almamundi.de/event/die-anima-loci-das-seelische-bewusstsein-eines-ortes-2/
LOCATION:Online-Event
CATEGORIES:Seminare,Vorträge
ATTACH;FMTTYPE=image/jpeg:https://www.almamundi.de/wp-content/uploads/2023/12/6a00e54fcf7385883401bb09883f3f970d-800wi-1.jpg
END:VEVENT
END:VCALENDAR