BEGIN:VCALENDAR
VERSION:2.0
PRODID:-//alma mundi AKADEMIE - ECPv6.15.17.1//NONSGML v1.0//EN
CALSCALE:GREGORIAN
METHOD:PUBLISH
X-WR-CALNAME:alma mundi AKADEMIE
X-ORIGINAL-URL:https://www.almamundi.de
X-WR-CALDESC:Veranstaltungen für alma mundi AKADEMIE
REFRESH-INTERVAL;VALUE=DURATION:PT1H
X-Robots-Tag:noindex
X-PUBLISHED-TTL:PT1H
BEGIN:VTIMEZONE
TZID:Europe/Berlin
BEGIN:DAYLIGHT
TZOFFSETFROM:+0100
TZOFFSETTO:+0200
TZNAME:CEST
DTSTART:20230326T010000
END:DAYLIGHT
BEGIN:STANDARD
TZOFFSETFROM:+0200
TZOFFSETTO:+0100
TZNAME:CET
DTSTART:20231029T010000
END:STANDARD
BEGIN:DAYLIGHT
TZOFFSETFROM:+0100
TZOFFSETTO:+0200
TZNAME:CEST
DTSTART:20240331T010000
END:DAYLIGHT
BEGIN:STANDARD
TZOFFSETFROM:+0200
TZOFFSETTO:+0100
TZNAME:CET
DTSTART:20241027T010000
END:STANDARD
BEGIN:DAYLIGHT
TZOFFSETFROM:+0100
TZOFFSETTO:+0200
TZNAME:CEST
DTSTART:20250330T010000
END:DAYLIGHT
BEGIN:STANDARD
TZOFFSETFROM:+0200
TZOFFSETTO:+0100
TZNAME:CET
DTSTART:20251026T010000
END:STANDARD
END:VTIMEZONE
BEGIN:VEVENT
DTSTART;TZID=Europe/Berlin:20240312T193000
DTEND;TZID=Europe/Berlin:20240312T220000
DTSTAMP:20260419T181558
CREATED:20231215T164933Z
LAST-MODIFIED:20231215T172700Z
UID:10000024-1710271800-1710280800@www.almamundi.de
SUMMARY:Geokultur – Wenn Mensch und Erde sich gemeinsam entwickeln / Vortrag
DESCRIPTION:Der Vortrag am 12.03.2024 hat das Thema:“Die Geburt des Individuums – Von der Renaissance bis zur Moderne“ \nVorträge von Markus Hoenninger: \nEin Weg durch die Kunstgeschichte von den Anfängen bis in die Gegenwart. Im Mittelpunkt stehen das Verhältnis von Mensch und Natur so wie die damit einhergehenden Entwicklungsschritte des menschlichen Bewusstseins. \nZur Anmeldung schreiben Sie bitte eine E-Mail an lange@almamundi.de \nWeitere Termin in 2024 finden Sie hier. \nOrt: Kunst und Räume\, Sternwaldstr. 6A\, 79102 Freiburg\nZeit: 19:30 bis 21 Uhr\nKosten: 15.-€ / erm. 10.-€ \nDozent: Markus Hoenninger
URL:https://www.almamundi.de/event/geokultur-wenn-mensch-und-erde-sich-gemeinsam-entwickeln-vortrag-2/
LOCATION:Kunst und Räume\, Sternwaldstr. 6A\, Freiburg\, 79102\, Deutschland
CATEGORIES:Vorträge
ATTACH;FMTTYPE=image/jpeg:https://www.almamundi.de/wp-content/uploads/2023/12/B50D3E1A-DEAE-4E9F-B0DC-FF20C5149285_1_201_a-1-scaled.jpeg
END:VEVENT
BEGIN:VEVENT
DTSTART;VALUE=DATE:20240323
DTEND;VALUE=DATE:20240325
DTSTAMP:20260419T181558
CREATED:20240122T004554Z
LAST-MODIFIED:20240206T090740Z
UID:10000037-1711152000-1711324799@www.almamundi.de
SUMMARY:Das Haus der Kraft – Grundlagen der Arbeit mit Häusern
DESCRIPTION:Wir alle leben in Häusern. Sei es das eigene Einfamilienhaus\, die Eigentumswohnung oder das Mehrfamilienhaus. Aber immer geht es uns darum\, dass wir uns in unserem intimen Lebensraum wohl\, sicher und geborgen fühlen. Oft wählen wir unseren Lebensraum analog zu unserer aktuellen Lebenssituation. Er ist immer stimmig und spiegelt u.a. mögliche Qualitäten\, Probleme und ungenutzte Potentiale der Bewohner wider. \nWir stellen verschiedene Techniken aus der europäischen und chinesischen Geomantie (Feng Shui) vor\, die bei der Entscheidung für oder gegen ein Haus oder eine Wohnung helfen können. Darüber hinaus können bestehende Probleme angegangen oder Potentiale und Qualitäten der Bewohner sichtbar und nutzbar gemacht werden. \nThemenfelder und Lerninhalte \nDas Haus als Spiegel der Bewohner: Techniken und Methoden: Formenschule\, Grundrisse\, \nAnalogiesysteme als Mittel der Selbsterkenntnis: * Mögliche Probleme und Potentiale erkennen * Eigenverantwortung und Selbsterkenntnis * Anwendung und Raum für Fragen \nDozent: Jochen Topp \nUhrzeit: Samstag: 10 – 17 Uhr\, Sonntag 10Uhr – 15 Uhr \nDies ist ein Online-Event \nBitte kontaktieren Sie uns bei weiteren Fragen oder\nInteresse über lange@almamundi.de
URL:https://www.almamundi.de/event/das-haus-der-kraft-grundlagen-der-arbeit-mit-haeusern-2/
LOCATION:Online-Event Zweiteilige Reihe
CATEGORIES:Seminare
ATTACH;FMTTYPE=image/jpeg:https://www.almamundi.de/wp-content/uploads/2023/11/carly-kewley-dD86H8L4Ttw-unsplash-scaled.jpg
END:VEVENT
END:VCALENDAR