BEGIN:VCALENDAR
VERSION:2.0
PRODID:-//alma mundi AKADEMIE - ECPv6.15.17.1//NONSGML v1.0//EN
CALSCALE:GREGORIAN
METHOD:PUBLISH
X-ORIGINAL-URL:https://www.almamundi.de
X-WR-CALDESC:Veranstaltungen für alma mundi AKADEMIE
REFRESH-INTERVAL;VALUE=DURATION:PT1H
X-Robots-Tag:noindex
X-PUBLISHED-TTL:PT1H
BEGIN:VTIMEZONE
TZID:Europe/Berlin
BEGIN:DAYLIGHT
TZOFFSETFROM:+0100
TZOFFSETTO:+0200
TZNAME:CEST
DTSTART:20240331T010000
END:DAYLIGHT
BEGIN:STANDARD
TZOFFSETFROM:+0200
TZOFFSETTO:+0100
TZNAME:CET
DTSTART:20241027T010000
END:STANDARD
BEGIN:DAYLIGHT
TZOFFSETFROM:+0100
TZOFFSETTO:+0200
TZNAME:CEST
DTSTART:20250330T010000
END:DAYLIGHT
BEGIN:STANDARD
TZOFFSETFROM:+0200
TZOFFSETTO:+0100
TZNAME:CET
DTSTART:20251026T010000
END:STANDARD
BEGIN:DAYLIGHT
TZOFFSETFROM:+0100
TZOFFSETTO:+0200
TZNAME:CEST
DTSTART:20260329T010000
END:DAYLIGHT
BEGIN:STANDARD
TZOFFSETFROM:+0200
TZOFFSETTO:+0100
TZNAME:CET
DTSTART:20261025T010000
END:STANDARD
END:VTIMEZONE
BEGIN:VEVENT
DTSTART;VALUE=DATE:20250628
DTEND;VALUE=DATE:20250713
DTSTAMP:20260419T152102
CREATED:20240122T110432Z
LAST-MODIFIED:20250318T102500Z
UID:10000046-1751068800-1752364799@www.almamundi.de
SUMMARY:Die Vision Quest im Dartmoor – eine Auszeit in der Natur
DESCRIPTION:„Es gibt Zeiten im Leben\, da ist es nötig\, alles hinter sich zu lassen. Zeit hinauszugehen und alleine zu sein\, mit der Natur und ihrem Wesen. Und an diesem einsamen Platz ist der Held oder die Heldin\, der Suchende oder Pilger allein mit den Wesen der Natur. Und an diesem einsamen Ort geht der Mensch auf Innenschau\, erhält wie ein Geschenk Antworten\, Klarheit\, eine Vision\, die er mit zurücknimmt zu seiner Gemeinschaft\, auf dass sie weiter bestehen kann und blüht und damit das Leben weitergeht.“\n\nZitat von Steven Foster\, „School of lost borders.“\nUm den Herausforderungen unserer Zeit lebendig und kreativ begegnen zu können\, sind wir aufgerufen\, die Erde und unser Menschsein wirklich zu berühren.\nDie Vision Quest eröffnet einen kraftvollen Raum\, der sehr direkt zu einer essenziellen Natur- und Selbsterfahrung führt. Kern der Auszeit sind vier Tage und vier Nächte\, fastend\, allein unter freiem Himmel. Im Spiegel der Natur werden persönliche Blockaden und Prägungen erkannt. Daraus ergeben sich neue Möglichkeiten für die Gestaltung des eigenen Lebens. Eine tiefe Qualität des Seins kann erfahren werden. In dieser Reduktion erleben wir unser pures Eingebunden sein. \nDas Dartmoor \nDas Dartmoor bietet einen einzigartigen und unversehrten Landschaftsraum\, welcher in einer heilsamen und mystischen Lebendigkeit auf uns wirkt. Angesiedelt im Süden Englands ist dieses Hochmoor eine seit Jahrhunderten nur spärlich besiedelte Landschaft\, in der die Natur noch intakt und von menschlichen Eingriffen weitgehend frei ist. \nDiese unberührte Wildnis\, führt uns ganz selbstverständlich zu einer tiefen Naturverbindung. Die unendlichen Weiten der Wiesen und Moore\, der Hügel und Wälder schaffen einen idealen Ort für die Visionssuche. Dartmoor-Pferde\, Schafe und Rinder leben frei in dieser Gegend und begleiten uns mit ihrer Sanftmut und ihrer Gelassenheit. So erleben wir ein harmonisches Miteinander von Landschaft\, Tier und Mensch. \nIn der Stille und Einsamkeit des Dartmoors können wir uns von äußeren Ablenkungen lösen und zur Ruhe kommen. \nDieser Naturraum bietet die Möglichkeit\, Achtsamkeit zu kultivieren. Die Stille und die Geräusche der Natur schärfen die Sinne und helfen\, im Augenblick zu leben. Wir begegnen einer kraftvollen Landschaft\, die etwas Nahrhaftes in sich trägt und uns mit den Kräften der Natur verbindet. Sonne\, Wind\, manchmal auch Regen und Nebel begleiten unsere innere Reise. \nThemenfelder und Lerninhalte \n\n\nVorbereitung und Ablösung: In der Vorbereitungszeit wird durch Gänge in die Natur und mithilfe der Gruppenleitung\, die persönliche Intention\, warum diese Auszeit genommen wird\, herausgearbeitet. Welche Themen wollen gewandelt werden und was folgt daraus als nächster Schritt. Daraus wird ein Satz formuliert\, der die Kraft und die Absicht in sich trägt\, warum Mensch vier Tage fastend\, allein und ohne Dach über dem Kopf draußen in der Natur verbringt. Gleichzeitig gibt es Zeit\, sich mit der Landschaft und der Umgebung vertraut zu machen. Fragen zur Sicherheit und zum Fasten werden geklärt. Der eigene Vision Quest Platz für die vier Tage Auszeit wird gefunden. Das langbewährte Sicherheitssystem der Vision Quest garantiert das Wohlbefinden der TeilnehmerInnen. \n\n\n\n\n\nDie Auszeit – Schwellenzeit: Am Morgen des ersten Auszeittages wird jede/r TeilnehmerInn zeremoniell in das Alleinsein entlassen. Jede/r TeilnehmerInn betritt nun seinen/ ihren ganz eigenen\, heiligen Raum\, um in den kommenden vier Tagen und Nächten\, ganz in die vorher geklärte Absicht hineinzuwachsen. Eine Auszeit in der Natur\, in der alles Alltägliche wegfällt. Zeit\, tief in sich hineinzuhorchen\, still zu werden\, das Kraftfeld der Natur durch sich hindurchströmen zu lassen – einfach DA SEIN- SO SEIN! Die Natur wird zum Seelenspiegel. Der innere Seelenraum weitet sich und die eigene Urkraft darf sich ganz natürlich entfalten. Eine heilig-heilsame Zeit! \n\n\n\n\n\n\nDie Integration – der Alltag: Nach der Zeit des Alleinseins wird jede/r Einzelne im Kreis der Gemeinschaft rituell begrüßt und aufgenommen. Die erlebten Geschichten und Erfahrungen werden geteilt und von der Leitung gespiegelt. Wertvolle Bilder und Erkenntnisse werden hervorgehoben und in einen sinnhaften Kontext gestellt. Konkrete Übungen übersetzen und integrieren das Erlebte in den eigenen Alltag. Unser Anliegen ist es\, die Erkenntnisse\, Erlebnisse und Erfahrungen nachhaltig in den Kontext des eigenen Lebens tragen zu können. \n\n\nSicherheit: Jede/r TeilnehmerInn nimmt eigenverantwortlich an einer Vision Quest teil. Fragen nach körperlicher und psychischer Gesundheit werden im Vorfeld gemeinsam geklärt. Die Vision Quest hat über viele Jahre ein fundiertes\, genau ausgearbeitetes Sicherheitssystem entwickelt – welches bestmögliche Sicherheit garantiert! Die Leitung hat jahrelange Erfahrung in der Durchführung. \n\n\n„Ich war im September mit Christin im Dartmoor und bin sehr berührt und begeistert von dieser vielfältigen Reise zurückgekehrt\, habe „kleine Wunder“ erlebt im Kontakt mit diesem Stück magischer Erde\, ihrer Steinformarmationen und Kraftfelder. Einen kleinen Einblick in das Feld der Geomantie habe ich auch erhalten\, sehr spannend war das und gut erklärt.  Die feinfühlige Art\, in der Christin mit den sehr unterschiedlichen Wahrnehmungen und Erlebnissen von uns allen umgegangen ist\, hat mir sehr gutgetan. Ich fühlte mich einfach willkommen\, auch in schwachen Momenten. Allein diese besondere Landschaft\, hell und düster zugleich\, uralte Wälder und moorige Wüsten\, alte Steine und Kraftplätze\, dazwischen Schafe und wilde (!) Pferde\, haben mir ein ganz besonderes Lebensgefühl vermittelt.  DANKE\, liebe Christin!“\nStephanie Lützen-Heller\, Psychotherapeutin \n\n\n\nLeitung: Christin Lange in Kooperation mit Michael Hoenninger\, Michael Heller und Nadzieja Kieslak\nPreise:  950€ zzgl. Reisekosten\, Unterkunft\, Verpflegung \nMehr zur Vision Quest mit der alma mundi AKADEMIE finden Sie hier.\nBitte kontaktieren Sie uns bei weiteren Fragen oder\nInteresse über lange@almamundi.de
URL:https://www.almamundi.de/event/die-vision-quest-im-dartmoor-eine-auszeit-in-der-natur/
LOCATION:Dartmoor\, Großbritannien
CATEGORIES:Ausbildung,Reisen,Seminare
ATTACH;FMTTYPE=image/jpeg:https://www.almamundi.de/wp-content/uploads/2023/09/IMG_9204.jpeg
END:VEVENT
BEGIN:VEVENT
DTSTART;VALUE=DATE:20250725
DTEND;VALUE=DATE:20250728
DTSTAMP:20260419T152102
CREATED:20241015T105653Z
LAST-MODIFIED:20250204T112641Z
UID:10000064-1753401600-1753660799@www.almamundi.de
SUMMARY:Die Wolfsfrau – Naturseminar zum kraftvollen Frausein!
DESCRIPTION:Die Wolfsfrau – Naturseminar zum kraftvollen Frausein! \nLeitung: Christin Lange & Co- Leitung Nadzieja Kislak \nWir allen sind von einer Sehnsucht nach wilder Ursprünglichkeit\nerfüllt. Aber es gibt kaum ein kulturell akzeptiertes Mittel\, das diese\nArt von Heißhunger stillt. Man hat uns Scham vor diesem Verlangen\nanerzogen\, und so haben wir gelernt\, unsere Gefühle hinter langen\nHaarmähnen zu verbergen. Aber ein Schatten der Wilden Frau verfolgt uns\nbei Tag und bei Nacht. Wo wir auch hingehen\, ein Schatten trottet hinter\nuns her –  und immer einer auf vier Beinen. \nCLARISSA PINKOLA ESTES\, DIE WOLFSFRAU \nDie seit Jahrtausenden systematisch unterdrückten weiblichen Urinstinkte sind in jeder Frau auf kollektiver und persönlicher Ebene spürbar. Doch in der Tiefe sucht sich diese Urkraft\, wie der wilde Löwenzahn am Bordsteinrand\, unaufhaltsam einen Weg\, um sichtbar zu werden. Doch wo finden wir diesen Löwenzahn in unserem Alltag und wie können wir diese wilden Kräfte in uns wecken? Wie sehr ringen wir in unserem Leben auf den verschiedensten Ebenen immer wieder darum\, diese Kraft in uns wieder ganz wach zu rütteln\, sie in uns spürbar und erfahrbar zu machen. Durch verschiedene kulturelle Überlagerungen gelähmt\, macht sich diese Urkraft doch immer wieder bemerkbar. Sie wartet in den Tiefen unserer Seele darauf\, wieder Raum zu bekommen\, sich mit uns zu verbinden. Und das kann besonders gut im Kraftfeld der Natur geschehen. Diese weiblichen Kräfte sind tief mit den natürlichen Kreisläufen der Natur verbunden. Das Seminar soll eine Einladung sein\, diese ursprüngliche\, wilde Kraft wieder bewusst zu spüren und in das eigene Leben\, in die zwischenmenschlichen Beziehungen zu integrieren. \nWILD BEDEUTET IN DIESEM SINNE DIE NATÜRLICHE LEBENSWEISE\, IN DER SICH EIN\nGESCHÖPF SEINE IHM INNEWOHNENDE INTEGRITÄT UND EIN GESUNDES\nGRENZVERSTÄNDNIS BEWAHRT. Eine Wildheit\, die zugleich sanft und zärtlich\nals auch zähnefletschend und mit produktivem Zorn fest auf zwei Beinen stehen kann. \nINHALTE DES SEMINARS: \n* Femininität im Spiegel der Natur\n* Die eigene Urwildkraft im inneren und äußeren Leben\n* Gesunde Grenzen setzten\n* Gesunde Wut integrieren\n* Den eigenen Körper bejahen und wertschätzen\n* Die gesunde und überschäumende Kraft der eigenen Sexualität\nbejahen\n* Ursprüngliche feminine und maskuline Prinzipien heute verstehen und            verbinden \nIn diesem Seminar arbeiten wir mit den Grundlagen der initiatischen\nNaturarbeit\, mit Ritualwissen\, Tanz und Trance und den Kräften der\nNatur. Das Wissen um Traumaaspekte und sensible Genderthemen gehören\nebenso dazu wie die Integration verlorener innerer Anteile in unsere\nBiographie. Märchen und mythologische Weisheiten begleiten und\nbereichern diesen Rahmen. Das ganze Seminar findet draußen in der Natur\nstatt. \nORT: \nDas Seminar findet zwischen den Wiesen und Wäldern des Schönbergs in\nder Nähe der Berghauser Kapelle in Freiburg statt.Ein Kreis um ein\nständig brennendes Feuer wird unser fester Platz sein\, bei Regen durch\nein Tarp geschützt. Von dort aus wandern wir durch die kraftvolle\nNatur\, die uns umgibt. Wir verpflegen uns gemeinsam und wer möchte\,\nkann auch draußen übernachten. \n  \nKosten:  \nWir erheben einen Richtpreis zwischen 100€ bis 250€ für das Wochenende. Ordne dich selber ein\, was du beitragen kannst!
URL:https://www.almamundi.de/event/die-wolfsfrau-naturseminar-zum-kraftvollen-frausein/
LOCATION:Freiburg\, am Schönberg\, Berghauser Kapelle 1\, 79285 Ebringen\, Germany
CATEGORIES:Seminare
ATTACH;FMTTYPE=image/jpeg:https://www.almamundi.de/wp-content/uploads/2024/10/ED76F93D-1E11-415E-B9A2-F61FB5BDC794-scaled.jpeg
END:VEVENT
END:VCALENDAR