BEGIN:VCALENDAR
VERSION:2.0
PRODID:-//alma mundi AKADEMIE - ECPv6.15.17.1//NONSGML v1.0//EN
CALSCALE:GREGORIAN
METHOD:PUBLISH
X-ORIGINAL-URL:https://www.almamundi.de
X-WR-CALDESC:Veranstaltungen für alma mundi AKADEMIE
REFRESH-INTERVAL;VALUE=DURATION:PT1H
X-Robots-Tag:noindex
X-PUBLISHED-TTL:PT1H
BEGIN:VTIMEZONE
TZID:Europe/Berlin
BEGIN:DAYLIGHT
TZOFFSETFROM:+0100
TZOFFSETTO:+0200
TZNAME:CEST
DTSTART:20240331T010000
END:DAYLIGHT
BEGIN:STANDARD
TZOFFSETFROM:+0200
TZOFFSETTO:+0100
TZNAME:CET
DTSTART:20241027T010000
END:STANDARD
BEGIN:DAYLIGHT
TZOFFSETFROM:+0100
TZOFFSETTO:+0200
TZNAME:CEST
DTSTART:20250330T010000
END:DAYLIGHT
BEGIN:STANDARD
TZOFFSETFROM:+0200
TZOFFSETTO:+0100
TZNAME:CET
DTSTART:20251026T010000
END:STANDARD
BEGIN:DAYLIGHT
TZOFFSETFROM:+0100
TZOFFSETTO:+0200
TZNAME:CEST
DTSTART:20260329T010000
END:DAYLIGHT
BEGIN:STANDARD
TZOFFSETFROM:+0200
TZOFFSETTO:+0100
TZNAME:CET
DTSTART:20261025T010000
END:STANDARD
END:VTIMEZONE
BEGIN:VEVENT
DTSTART;TZID=Europe/Berlin:20250913T110000
DTEND;TZID=Europe/Berlin:20250913T170000
DTSTAMP:20260419T140735
CREATED:20241123T144414Z
LAST-MODIFIED:20250609T194727Z
UID:10000069-1757761200-1757782800@www.almamundi.de
SUMMARY:Persönlichkeitsentwicklung im Spiegel der Natur– Naturcoaching mit dem Lebensrad Teil 4
DESCRIPTION:Persönlichkeitsentwicklung im Spiegel der Natur  \nIn der ganzen Natur erkennen wir Zyklen\, die sinnvoll in immer neuen Kreisen das Leben gestalten: Die Phasen der Jahreszeiten\, das Werden und Vergehen in allen Naturprozessen. \nDie gleichen Zyklen finden auch in unseren menschlichen Lebensphasen statt. Biographische Lebensphasen sind mit diesen Naturzyklen verbunden\, auch wenn wir oft kein Bewusstsein darüber haben. Wie können wir uns in unserem Lebenslauf wieder an diese Zyklen anbinden\, um innere und äußere Verbindung und Heilung zu erleben. \nUnsere Gesellschaft hat sich von diesen natürlichen Lebensflüssen abgekoppelt. Burn-Out\, seelisches Ungleichgewicht\, unkenntliche Lebensübergänge und ein Gefühl des Getrenntseins sind Auswirkungen und Grundempfindungen unserer heutigen Zeit. \nDas „Rad des Lebens“\, das Wissen des über Jahrhunderte alten „Medizinrads“\, lädt ein\, die natürlich Verbundenheit des Lebens wieder zu erleben. Das Mitschwingen im Zyklus motiviert\, uns weiter zu bewegen\, Stagnation zu überwinden und mit all unseren Fähigkeiten zu leben und sie in das Leben zu übersetzen. \nThemenfelder und Lerninhalte \nDas Rad des Lebens – Die Richtungsqualitäten: Der Osten – Frühling\, Kraft des Neubeginns\, Impulskraft\, Spiritualität * Der Süden – Sommer\, Lebenskraft\, Körper und Sinnlichkeit\, Leben aus der Fülle * Der Westen – Herbst\, Schattenreich\, Wandlung\, Ahnenwelt\, Erdung * Der Norden – Winter\, Klarheit\, Reifung\, das Übersetzen der Lebensgaben * Die Richtungen in der Interaktion \nDie Lebensspiegelung – Mein Weg im Innen und Außen: Deine Geschichte im Spiegel der Natur * Innenschau und Standortbestimmung * Symbolisches und mythologisches Wissen über das Wesen von Tieren und Pflanzen \nDer Mensch in seiner Kraft: Der archetypische Raum der Seele * Der blinde Fleck * Die Verletzung * Die Quelle meiner Kraft \nDozentin: Christin Lange \nBitte kontaktieren Sie uns bei weiteren Fragen oder\nInteresse über lange@almamundi.de
URL:https://www.almamundi.de/event/persoenlichkeitsentwicklung-im-spiegel-der-natur-naturcoaching-mit-dem-lebensrad-teil-4/
LOCATION:Freiburg\, Schönberg
CATEGORIES:Seminare
ATTACH;FMTTYPE=image/jpeg:https://www.almamundi.de/wp-content/uploads/2024/11/A02F2D95-741A-46C9-BFEB-DAE6246AE6CD_1_105_c.jpeg
END:VEVENT
BEGIN:VEVENT
DTSTART;TZID=Europe/Berlin:20250914T140000
DTEND;TZID=Europe/Berlin:20250914T180000
DTSTAMP:20260419T140735
CREATED:20250819T131318Z
LAST-MODIFIED:20250820T111840Z
UID:10000081-1757858400-1757872800@www.almamundi.de
SUMMARY:Orte der Kraft - Der Mathisleweiher und seine Umgebung bei Hinterzarten
DESCRIPTION:Der Mathisleweiher und seine Umgebung \nDer kleine\, mystische Mathisleweiher liegt im Schwarzwald bei Hinterzarten. Umgeben von urigen Wäldern und kleinen Moorgebieten strahlt er eine tiefe Ruhe aus. Die Welt der Naturwesen des Schwarzwalds ist hier sehr präsent. Wir wollen in die moosbewachsenen Wälder\, den dunklen Moorweiher und seine kleinen Moorlandschaften eintauchen und die einzigartige Kraft des Schwarzwaldes erleben. \nThemenfelder und Lerninhalte\nWahrnehmungsschulung: Wahrnehmungsfelder * Ortswahrnehmung\, Baum- und Pflanzenwahrnehmung\,\nGeomantische Ortsrecherche: Tal- & Bergorganismus\, Kraftfeldforschungen\, energetische Ebenen\, Ätherräume\, Energetische Landschaftsstrukturen\nNaturwesenwelten: Naturwesen & Mensch\, das Wirken der Naturwesen in der Natur und im Menschen\, Naturwesen & Herzraum des Menschen \nUhrzeit: 14.-ca. 18 Uhr \nTreffpunkt: Mathislehof\, Oberzartener Weg 2\, 79856 Hinterzarten \nKosten: 35€
URL:https://www.almamundi.de/event/orte-der-kraft-der-mathisleweiher-und-seine-umgebung-bei-hinterzarten/
LOCATION:Hinterzarten
CATEGORIES:Seminare
ATTACH;FMTTYPE=image/jpeg:https://www.almamundi.de/wp-content/uploads/2025/08/32C45772-702C-4FE7-8565-1F1F8EDBFB01-scaled.jpeg
END:VEVENT
BEGIN:VEVENT
DTSTART;TZID=Europe/Berlin:20250919T183000
DTEND;TZID=Europe/Berlin:20250919T200000
DTSTAMP:20260419T140735
CREATED:20250207T104114Z
LAST-MODIFIED:20250909T143833Z
UID:10000076-1758306600-1758312000@www.almamundi.de
SUMMARY:Erdenraum & Himmelslicht
DESCRIPTION: St. Cyriak/ Sulzburg erleben \nIn Stille \n          Im Klang \n                In Bewegung \n                              Im Malen \nDiese Reihe findet in Kooperation mit der Kirchengemeinde Sulzburg & Eva Brandt statt.  \nIn dieser Seminarreihe wollen wir einen tieferen Zugang zur alten romanischen Kirche St. Cyriak in Sulzburg aus dem 10. Jh. erlangen. Sie besticht durch ihre Schlichtheit\, Harmonie und Stille und ist ein kleines Juwel in unserer Region. Wenn wir diese Kirche betreten\, spüren wir eine Ruhe und Einfachheit\, die unsere Seele nährt. In unserer Reihe „Erdenraum & Himmelslicht“ wollen wir uns Zeit nehmen\, diesen inneren und äußeren Sakralraum auf uns wirken zu lassen. Mit Flötenmusik & Klang\, meditativer Bewegung und kreativem Malen wollen wir uns eineinhalb Stunden Zeit nehmen\, diesen Ort im eigenen Erleben zu entdecken und seine stärkende Kraft zu erfahren! \nWir freuen uns auf ein gemeinsames Erleben! \nTermine: \nDie Kraft der bewegten Mitte \n19. September 2025 \nEngelklang im Erdendunkel \n14. November 2025 \n  \nFreitags 18.30-20Uhr\, einzeln buchbar \nPreis: 10-20 € nach Selbsteinschätzung\, Bezahlung vor Ort \nTreffpunkt: St. Cyriak in Sulzburg \nGut zu wissen: Da der Kirchenraum eher kühl ist\, empfiehlt es sich wärmere & bequeme Kleidung zu tragen. Es ist gut ein Notizblock\, ev. Malstifte\, eine Sitzunterlage und wer mag einen Thermoskanne mit warmen Tee dabei zu haben. \n(Photo: Frank Tusch) \n(Photo Beitragsbild: Kircheninnenraum\, © PEDA-Kunstführer „Sulzburg St. Cyriak“)
URL:https://www.almamundi.de/event/erdenraum-himmelslicht/
LOCATION:Sulzburg bei Staufen
CATEGORIES:Seminare,Vorträge
ATTACH;FMTTYPE=image/jpeg:https://www.almamundi.de/wp-content/uploads/2025/02/CF018801-peda.jpg
END:VEVENT
BEGIN:VEVENT
DTSTART;VALUE=DATE:20250928
DTEND;VALUE=DATE:20251005
DTSTAMP:20260419T140735
CREATED:20231129T142550Z
LAST-MODIFIED:20241209T105831Z
UID:10000002-1759017600-1759622399@www.almamundi.de
SUMMARY:Die Alhambra – eine Pilgerreise zur spirituellen Poesie des Morgenlands
DESCRIPTION:  \n \n„Versenke dich in meine Schönheit und du wirst die tiefste Bedeutung erfahren…. Und die kühnsten Träume werden sich verwirklichen. Die Vollkommenheit des Gebäudes entspringt der Fügungen der Sterne……Des Nachts ziehen die glückbringenden Plejaden göttliche Gunsten herab……Und erwachen in der Morgendämmerung in einer sanft wehenden Brise.“ \nDie Alhambra\, Ibn Zamrak\, islamischer Poet \n  \nDie Alhambra – eine Pilgerreise zur spirituellen Poesie des Morgenlands\nDie Alhambra ist das bedeutendste und schönste Bauwerk maurischer Kunst. Sie ist zugleich einzigartiges Juwel der spirituellen Weltkultur. Im 13. Jahrhundert wurde sie als Residenz der maurischen Könige errichtet. Als Stadtburg und geistiges Zentrum\, liegt sie auf dem Bergrücken Granadas am Fuß der Sierra Nevada. \nAlhambra: Zentrum des geistigen Wissens – Stätte der Sterndeutung \nInnerhalb der 13 Hektar großen alten Festungsmauer befindet sich die Alcazaba – die Zitadelle\, die Nasridenpaläste\, eine Kirche und ein Kloster; daneben die ausgedehnten Gartenanlagen der wunderschönen Generalife. Die Baumeister haben hier ein einzigartiges Zeugnis von spiritueller Architektur und harmonischer Gartenkunst geschaffen. Dies führt uns bis heute in eine tief liegende Mystik und Poesie des Lebens ein. \nSchon immer war die Alhambra geistiger Brennpunkt zwischen Abendland und Morgenland; umso aktueller ist sie als Quelle eines universellen Verständnisses von Spiritualität. Dazu dienen auch die abstrakten Gestaltungsmittel der maurischen Geomantie. Rhythmische Raumgliederung und Ursprungsverbindung können wir hier in einer gesetzten Feinheit bewundern. Die Stalaktiten Kuppeln führen uns in kosmische Weisheiten\, die wie Abbilder auf Erden\, nah an uns ran rücken. \nDiese Reise eröffnet uns einen tiefen Zugang zur inneren Kontemplation\, gespiegelt von außen – ein innerer Raum der Schönheit. Aus Ihr sprudelt die Poesie des Lebens. \nWir werden jeden Tag in die Alhambra und ihre Gärten eintauchen\, uns dort versenken\, unsere eigene innere Poesie berühren. Schreiben\, zeichnen und tiefe Gespräche über das Leben werden uns auf dieser Reise begleiten. Gleichzeitig gibt es auch informative PPoint Vorträge über die Geomantie von Granada und der Alhambra. \nAlahmbra – Die Rote * Baukunst als Spiegel des Universums * Der Pato de Leones und die vier Paradiesflüsse * Verborgene Geheimnisse der islamischen Mystik und Symbolkunde * Der Tempel des Salomon \nPoesie und Kunst der Innenwelt * Alhambra – Himmelsleuchte und Wohnstätte der Planeten * Die Kuppel der Abencerragen * Die Planeten und die 7 Himmelsgewölbe der islamischen Kosmologie * Die Stalaktitengewölbe als „leuchtende“ Ursprungsverbindung \nDas Göttliche – der eine Raum * Die Kunst\, die „keine Schatten kennt“ * Aus der Mitte gestalten: wie der Ursprung den Raum neu füllt * Der Sog der „Unendlichen Form“ in die Welt des Geistes. \nDer Garten als Traum vom Paradies * Schwingung und die Wasserkunst * Der Paradiesgarten * Die Formgebung und Pflanzen und Wasserwelten * die Poesie der Gartengestaltung * Die Landschaft der Sierra Nevada im Hintergrund \n \n  \n  \n  \n  \n  \n  \n  \n       \n  \n     \n  \nLeitung: Christin Lange & Assistenz\nPreis: 850 € zzgl. Reisekosten\, Unterkunft\, Verpflegung \nUnterkunft & Verpflegung & Anreise: \nUnterkunft: Wir sind in einem kleinen wunderschönen Familienhotel nah an der Alhambra eingebucht. Alle Zimmer sind als schöne Zweibettzimmer mit Einzelbetten ausgestattet. \nZimmerkategorien & Kosten: \nhttps://www.hotelcasamorisca.com/en/rooms/ \n\n3 Superior Doppel- oder Zweibettzimmer mit zwei Einzelbetten pro Person & Tag 75€/ als Einzelzimmer 150€\n5 Superior Doppelt – oder Zweibettzimmer mit Einzelbett möglich pro Person& Tag 103€/ als Einzelzimmer 205 €\n1 Doppelzimmer mit direktem Blick auf die Alhambra 115€ pro Person & Tag/ als Einzelzimmer 230€\n\nBitte Zimmerwunsch bei Buchung  an uns angeben. Die Zimmer werden nach Reihe der Zimmerbuchung verteilt!! \nVerpflegung: \n\nFrühstück findet gemeinsam im Hotel statt. Kosten 15€\nFür Mittag und Abendessen sorgt jeder selbst für sich\, da es wunderbare kleine Restaurants in unmittelbarer Nähe zu entdecken gibt.\nAm letzten Abend werden wir ein gemeinsames Abendessen erleben!\n\nAnreise: \nJeder TeilnehmerInn bucht selbst einen Flug nach Granada. Dort kann auf Anfrage von mehreren Leuten eine Abholung vom Flughafen zum Hotels erfolgen. Bitte gerne hier bescheid geben. Treffpunkt wäre um 17 Uhr im Flughafen von Granada. \n  \nHotel Adresse und Webseite: \nCasa Morisca Hotel \nCuesta de la Victoria 9 \n18010 Granada \nwww.hotelcasamorisca.com \nBitte kontaktieren Sie uns bei weiteren Fragen oder\nInteresse über lange@almamundi.de
URL:https://www.almamundi.de/event/die-alhambra/
LOCATION:Alhambra – Granada\, Spain
CATEGORIES:Reisen,Seminare
ATTACH;FMTTYPE=image/jpeg:https://www.almamundi.de/wp-content/uploads/2023/11/jorge-fernandez-salas-yteO5bs_QCA-unsplash-scaled.jpg
END:VEVENT
END:VCALENDAR